BEGIN:VCALENDAR
PRODID:-//hacksw/handcal//NONSGML v1.0//EN
VERSION:2.0
METHOD:PUBLISH
BEGIN:VEVENT
DTSTART:20250321T133000Z
DTEND:20250321T141500Z
LOCATION:Virtual Zoom Meeting
UID:2724520250321T133000Z'Member Only' Third Fridays - Informal Virtual Networking
DTSTAMP:20260422T063625Z
DESCRIPTION:\nCEPC invites all members to our complimentary Fourth Fridays Informal Virtual Networking\n\n\n\n\n \nAfter assembling and announcements, you will be rotated into virtual breakout rooms for smaller discussions\n\n\n\n\n \nGrab a cup of coffee and drop in for casual conversations with your fellow CEPC members\n
SUMMARY:'Member Only' Third Fridays - Informal Virtual Networking - Chicago Estate Planning Council 
PRIORITY:3
BEGIN:VALARM
TRIGGER:PT18H
ACTION:DISPLAY
DESCRIPTION:Reminder
END:VALARM
END:VEVENT
END:VCALENDAR